BEGIN:VCALENDAR
VERSION:2.0
PRODID:-//UKS ZSO Włoszakowice - ECPv6.15.13//NONSGML v1.0//EN
CALSCALE:GREGORIAN
METHOD:PUBLISH
X-ORIGINAL-URL:https://www.szachywloszakowice.pl
X-WR-CALDESC:Wydarzenia dla UKS ZSO Włoszakowice
REFRESH-INTERVAL;VALUE=DURATION:PT1H
X-Robots-Tag:noindex
X-PUBLISHED-TTL:PT1H
BEGIN:VTIMEZONE
TZID:UTC
BEGIN:STANDARD
TZOFFSETFROM:+0000
TZOFFSETTO:+0000
TZNAME:UTC
DTSTART:20240101T000000
END:STANDARD
END:VTIMEZONE
BEGIN:VEVENT
DTSTART;TZID=UTC:20251115T090000
DTEND;TZID=UTC:20251115T130000
DTSTAMP:20260419T131221
CREATED:20251111T202148Z
LAST-MODIFIED:20251111T202148Z
UID:4197-1763197200-1763211600@www.szachywloszakowice.pl
SUMMARY:szkolenie szachowe
DESCRIPTION:W dniu 15.11.2025 r. szkolenie mają wszystkie grupy \n9.00-13.00 p. Wiesław Janocha \n11\,00-14.00 p. Jonasz Walkowski \n9\,00-11.00 p.Wiesława Walkowska \nZapraszamy!
URL:https://www.szachywloszakowice.pl/event/szkolenie-szachowe/
LOCATION:Włoszakowice\, pl.21 Października 3\, Włoszakowice\, Wielkopolskie\, 64-140\, Poland
CATEGORIES:zajęcia szachowe
ATTACH;FMTTYPE=image/jpeg:https://www.szachywloszakowice.pl/wp-content/uploads/2023/02/baner-ZSO-Wloszakowice.jpg
END:VEVENT
END:VCALENDAR