BEGIN:VCALENDAR
VERSION:2.0
PRODID:-//UKS ZSO Włoszakowice - ECPv6.15.13//NONSGML v1.0//EN
CALSCALE:GREGORIAN
METHOD:PUBLISH
X-ORIGINAL-URL:https://www.szachywloszakowice.pl
X-WR-CALDESC:Wydarzenia dla UKS ZSO Włoszakowice
REFRESH-INTERVAL;VALUE=DURATION:PT1H
X-Robots-Tag:noindex
X-PUBLISHED-TTL:PT1H
BEGIN:VTIMEZONE
TZID:UTC
BEGIN:STANDARD
TZOFFSETFROM:+0000
TZOFFSETTO:+0000
TZNAME:UTC
DTSTART:20240101T000000
END:STANDARD
END:VTIMEZONE
BEGIN:VEVENT
DTSTART;TZID=UTC:20251012T080000
DTEND;TZID=UTC:20251012T170000
DTSTAMP:20260422T185303
CREATED:20251012T135750Z
LAST-MODIFIED:20251012T135750Z
UID:4073-1760256000-1760288400@www.szachywloszakowice.pl
SUMMARY:zajęcia szachowe
DESCRIPTION:9.00 d0 11.00 \nklasa 1 i przedszkole  WWalkowska \nPozostałe grupy nie mają zajęć. \nZapisane osoby  wyjazd na turniej do Leszna \n7.45 wyjazd  parking hala przy Zso Włoszakowice
URL:https://www.szachywloszakowice.pl/event/zajecia-szachowe-10/
CATEGORIES:zajęcia szachowe,zawody
END:VEVENT
END:VCALENDAR