BEGIN:VCALENDAR
VERSION:2.0
PRODID:-//UKS ZSO Włoszakowice - ECPv6.15.13//NONSGML v1.0//EN
CALSCALE:GREGORIAN
METHOD:PUBLISH
X-ORIGINAL-URL:https://www.szachywloszakowice.pl
X-WR-CALDESC:Wydarzenia dla UKS ZSO Włoszakowice
REFRESH-INTERVAL;VALUE=DURATION:PT1H
X-Robots-Tag:noindex
X-PUBLISHED-TTL:PT1H
BEGIN:VTIMEZONE
TZID:UTC
BEGIN:STANDARD
TZOFFSETFROM:+0000
TZOFFSETTO:+0000
TZNAME:UTC
DTSTART:20240101T000000
END:STANDARD
END:VTIMEZONE
BEGIN:VEVENT
DTSTART;TZID=UTC:20251108T080000
DTEND;TZID=UTC:20251108T150000
DTSTAMP:20260420T143538
CREATED:20251024T163931Z
LAST-MODIFIED:20251024T163931Z
UID:4109-1762588800-1762614000@www.szachywloszakowice.pl
SUMMARY:Festiwal Szachowy Niepodległa 2025 turniej klasyfikacyjny do 1250
DESCRIPTION:.ORGANIZATORZY\n-UKS ZSO Włoszakowice \n-ZSO Włoszakowice \n-Gmina Włoszakowice \n\nTERMIN I MIEJSCE\n– 8.11.2025\, godzina 9:00\n– ZSO Włoszakowice\, wejście od strony hali sportowej przez boisko szkolne\n– ul. K.Kurpińskiego 30 64-140 Włoszakowice\n\nIII. UCZESTNICTWO\n– Do wzięcia udziału w turnieju upoważnieni są zawodnicy z rankingiem PZSzach 1400  i wyżej bez ograniczeń wiekowych\n– Zgłoszenia zawodyszachowe.wloszakowice@wp.pl lub przez chessarbiter\n– Wpisowe wpłacamy na konto:\nUKS ZSO Włoszakowice 47 8661 0009 2001 0000 4082 0001\n– Obowiązuje limit miejsc – 40 zawodników. Decyduje kolejność zaksięgowania płatności.\n– Wpisowe wynosi 60 zł (w dniu turnieju 100 zł). Tylko opłacenie wpisowego oraz rejestracja gwarantuje miejsce w turnieju.\n– Opłacone wpisowe nie podlega zwrotowi \n\nSYSTEM ROZGRYWEK I TEMPO\n– 7 rund\n– 30′\n– system szwajcarski (w zależności od liczby graczy dopuszcza się możliwość zrobienia turnieju kołowego lub dwóch osobnych grup\, np. oddzielne turnieje na III i II kategorię).\n– dopuszcza sięna zawodnika\n15-minutowe spóźnienie na partię\, dłuższe spóźnienia kończą się walkowerem. Osoba\, która odda walkowera w ten sposób i nie potwierdzi swojej obecności przed kojarzeniem kolejnej rundy zostanie wykluczona z dalszej gry w turnieju.\n– obowiązuje osobiste potwierdzenie obecności przed rozpoczęciem turnieju.\nHARMONOGRAM TURNIEJU\n– 8.11.2025\n8:30-8:45 – osobiste potwierdzenie zgłoszeń zawodników\n9:00 – powitanie zawodników\, odprawa techniczna\, otwarcie turnieju\n9:00-15:00 – rundy 1-4 (kolejne rundy rozpoczynają się ok. 5 minut po zakończeniu poprzedniej)\n– Podane przedziały czasowe są orientacyjne i mogą  się zmienić.\n\nVII. PRZEPISY GR\n– Turniej odbędzie się zgodnie z aktualnymi przepisami FIDE. \nVIII. NAGRODY \nMiejsca 1-6 nagrody rzeczowe.   Przewidziana także nagroda dla kobiety z najwyższym wynikiem. Nagrody nie są łączone. \nVIII. OBSADA SĘDZIOWSKA\n– sędzia II klasyKarolina Janiszewska \n\n– zawodnicy ubezpieczają się we własnym zakresie.\n– opiekę nad zawodnikami niepełnoletnimi sprawują ich prawni opiekunowie lub osoby przez nie upoważnione.\n– uczestnicy i kibice wyrażają zgodę na przetwarzanie danych osobowych przez organizatorów zgodnie z RODO oraz wykorzystanie wizerunku do celów promocyjno-marketingowych przez organizatorów.\nTurniej w ramach Festiwalu Szachowego „Niepodległa”. W ramach cyklu dla grup 1600 i 1400 przewidziane są 3 nagrody finansowe za uzyskanie najwyższej łącznej punktacji  w turnieju szachów klasycznych\, szybkich i błyskawicznych wg komunikatu zamieszczonego na stronie szachywloszakowice.pl\, w grupie do 1250 3 nagrody rzeczowe.\n\n 
URL:https://www.szachywloszakowice.pl/event/festiwal-szachowy-niepodlegla-2025-turniej-klasyfikacyjny-do-1250/
LOCATION:Włoszakowice\, ul K.Kurpińskiego 30
ATTACH;FMTTYPE=image/png:https://www.szachywloszakowice.pl/wp-content/uploads/2025/10/niepodlegla-plakat.png
END:VEVENT
BEGIN:VEVENT
DTSTART;TZID=UTC:20251108T080000
DTEND;TZID=UTC:20251109T150000
DTSTAMP:20260420T143538
CREATED:20251022T072950Z
LAST-MODIFIED:20251110T151031Z
UID:4079-1762588800-1762700400@www.szachywloszakowice.pl
SUMMARY:Festiwal Szachowy Niepodległa 2025 klasyfikacyjny grupa 1400 i wyżej
DESCRIPTION:I.ORGANIZATORZY\n-UKS ZSO Włoszakowice \n-ZSO Włoszakowice \n-Gmina Włoszakowice \n\nTERMIN I MIEJSCE\n– 8.11.2025\, godzina 9:00 i 9.11.2025 godzina 9:00\n– ZSO Włoszakowice\, wejście od strony hali sportowej przez boisko szkolne\n– ul. K.Kurpińskiego 30 64-140 Włoszakowice\n\nIII. UCZESTNICTWO\n– Do wzięcia udziału w turnieju upoważnieni są zawodnicy z rankingiem PZSzach 1400  i wyżej bez ograniczeń wiekowych\n– Zgłoszenia zawodyszachowe.wloszakowice@wp.pl lub przez chessarbiter\n– Wpisowe wpłacamy na konto:\nUKS ZSO Włoszakowice 47 8661 0009 2001 0000 4082 0001\n– Obowiązuje limit miejsc – 40 zawodników. Decyduje kolejność zaksięgowania płatności.\n– Wpisowe wynosi 80 zł (w dniu turnieju 100 zł). Tylko opłacenie wpisowego oraz rejestracja gwarantuje miejsce w turnieju.\n– Opłacone wpisowe nie podlega zwrotowi \n\nSYSTEM ROZGRYWEK I TEMPO\n– 7 rund\n– 30′ + 30” za każde wykonane posunięcie\n– system szwajcarski (w zależności od liczby graczy dopuszcza się możliwość zrobienia turnieju kołowego lub dwóch osobnych grup\, np. oddzielne turnieje na III i II kategorię).\n– dopuszcza się 15-minutowe spóźnienie na partię\, dłuższe spóźnienia kończą się walkowerem. Osoba\, która odda walkowera w ten sposób i nie potwierdzi swojej obecności przed kojarzeniem kolejnej rundy zostanie wykluczona z dalszej gry w turnieju.\n– obowiązuje osobiste potwierdzenie obecności przed rozpoczęciem turnieju.\n– obowiązuje prowadzenie zapisu przebiegu partii.\nHARMONOGRAM TURNIEJU\n– 8.11.2025\n8:30-8:45 – osobiste potwierdzenie zgłoszeń zawodników\n9:00 – powitanie zawodników\, odprawa techniczna\, otwarcie turnieju\n10:00-18:00 – rundy 1-4 (kolejne rundy rozpoczynają się ok. 5 minut po zakończeniu poprzedniej)\n– 9.11.2025\n9:00-15:00 – rundy 5-7 (kolejne rundy rozpoczynają się ok. 5 minut po zakończeniu poprzedniej)\n15:10 – 15:20 – zakończenie turnieju\, ogłoszenie wyników\, rozdanie nagród\n– Podane przedziały czasowe są orientacyjne i mogą ulec zmianom.\n\nVII. PRZEPISY GRY\n– Turniej odbędzie się zgodnie z aktualnymi przepisami FIDE. \nVIII. NAGRODY\n– Organizatorzy przewidują następujące  nagrody \n1 miejsce 300 zł vouvher \n2 miejsce 200 zł  voucher \n3 miejsce 100 zł   voucher \nMiejsca 4-6 nagrody rzeczowe.   Przewidziana także nagroda dla kobiety z najwyższym wynikiem. Nagrody nie są łączone. \nVIII. OBSADA SĘDZIOWSKA\n– sędzia II klasy – Jonasz Walkowski \n\n– zawodnicy ubezpieczają się we własnym zakresie.\n– opiekę nad zawodnikami niepełnoletnimi sprawują ich prawni opiekunowie lub osoby przez nie upoważnione.\n– uczestnicy i kibice wyrażają zgodę na przetwarzanie danych osobowych przez organizatorów zgodnie z RODO oraz wykorzystanie wizerunku do celów promocyjno-marketingowych przez organizatorów.\nTurniej w ramach Festiwalu Szachowego „Niepodległa”. W ramach cyklu dla grup 1600 i 1400 przewidziane są 3 nagrody finansowe za uzyskanie najwyższej łącznej punktacji  w turnieju szachów klasycznych\, szybkich i błyskawicznych wg komunikatu zamieszczonego na stronie szachywloszakowice.pl\n\n 
URL:https://www.szachywloszakowice.pl/event/festiwal-szachowy-niepodlegla-2025-grupa-1400-i-wyzej/
LOCATION:Włoszakowice\, ul K.Kurpińskiego 30
CATEGORIES:zawody
ATTACH;FMTTYPE=image/png:https://www.szachywloszakowice.pl/wp-content/uploads/2025/10/niepodlegla-plakat.png
END:VEVENT
BEGIN:VEVENT
DTSTART;TZID=UTC:20251108T080000
DTEND;TZID=UTC:20251109T170000
DTSTAMP:20260420T143538
CREATED:20251022T074717Z
LAST-MODIFIED:20251110T150935Z
UID:4084-1762588800-1762707600@www.szachywloszakowice.pl
SUMMARY:Festiwal Niepodległa- cykl turniejów
DESCRIPTION:I.ORGANIZATORZY\n-UKS ZSO Włoszakowice \n-ZSO Włoszakowice \n-Gmina Włoszakowice \n\nTERMIN I MIEJSCE\n– 8.11.2025 do 9.11.2025 r. turnieje klasyfikacyjne   – 22.listopada 2025 r. \,      turnieje szachów szybkich i błyskawicznych w dwóch grup[ach do 1250 i powyżej 1400\n\nIII. UCZESTNICTWO\n– w ramach cyklu będą osobno punktowani zawodnicy w grupach: \n1)turniej klasyfikacyjny 1600 i 1400\, + szybkie 1400 i wyżej+ błyskawiczne 1400 i wyżej \n2)turniej klasyfikacyjny 1600 i 1400\, + szybkie do 1400 + błyskawiczne do 1400 Nagrody uzyskują osoby z najwyższą sumą punktów w turniejach klasyfikacyjnych\, szybkich i błyskawicznych. \n– Zgłoszenia zawodyszachowe.wloszakowice@wp.pl lub przez chessarbiter\nwg grup turniejowych \nIV .Punktacja cyklu \nZa zajęte miejsce w każdej z grup punktujemy \n1.zajęte miejsce w turnieju wg zasady \n1miejsce -10 pkt. \n2) miejsce 9 pkt. \n3) miejsce 8 pkt \n4) miejsce 7 pkt \n5) miejsce 6 pkt \n6) miejsce 5 pkt \n7) miejsce 4 pkt \n8) miejsce 3 pkt \n9) miejsce 2 pkt \n10) miejsce 1 pkt \n\ndo uzyskanego wyniku za miejsce dodajemy ilość zdobytych pkt w turniejach.\n\nW przypadku równej ilości pkt. liczy się dodatkowo ilość zwycięstw czarnymi\, bezpośredni pojedynek osób z równą ilością pkt. Jeśli to nie rozstrzygnie kolejności miejsc sędzia zawodów wspólnie z organizatorem turnieju zarządza dogrywkę partia 3’+2 ”. \nNagrody \nZa sumę pkt wg zasad wyżej wymienionych przewidziane nagrody \n1)grupa 1400 i wyżej \n1miwjsce 300 zł voucher \n2 miejsce 200 zł voucher \n3 miejsce 100 zł voucher \n2 grupa bk – 1250   będą 3 nagrody rzeczowe. \nTabela rozgrywek festiwal Niepodległa Włoszakowice \n\n\n\nRodzaj szachów\, grupa\ntempo\nData\, godzina\nnagrody\n\n\nklasyfikacyjny do 1250\n30 minut\n8.11.2025 r.  sobota godz.9.00\n6 rzeczowych\n\n\nKlasyczne 1400 i 1600\n30 minut+ 30 sek\n8.11.2025r.  godz. 9.11.2025 r. 9.00\n3 finansowe +  kobieta z najwyższym wynikiem\,  3 rzeczowe\n\n\nSzybkie do 1400\n10’+5 sek.\n22.11.2025 r. godz. 9.00\n6 rzeczowych\n\n\nSzybkie 1400 i wyżej\n10’+5 sek.\n 22.11.2025 \nGodz 9.00\n6 rzeczowych\n\n\nBłyskawiczne do 1400\n3min +2 sek\n22.11.2025 \nGodz. 12.30\n6 rzeczowych\n\n\nBłyskawiczne 1400 i wyżej\n3min +2 sek\nPoniedziałek  22.11.2025 \nGodz 12.30\n6 rzeczowych\n\n\n\n  \nNagrody za cykl mogą odebrać tylko osoby obecne na sali gry w momencie zakończenia turnieju \n 
URL:https://www.szachywloszakowice.pl/event/festiwal-niepodlegla-cykl-turniejow/
LOCATION:Włoszakowice\, ul K.Kurpińskiego 30
ATTACH;FMTTYPE=image/png:https://www.szachywloszakowice.pl/wp-content/uploads/2025/10/Niepodlegla-2025.png
END:VEVENT
END:VCALENDAR