BEGIN:VCALENDAR
VERSION:2.0
PRODID:-//UKS ZSO Włoszakowice - ECPv6.15.13//NONSGML v1.0//EN
CALSCALE:GREGORIAN
METHOD:PUBLISH
X-ORIGINAL-URL:https://www.szachywloszakowice.pl
X-WR-CALDESC:Wydarzenia dla UKS ZSO Włoszakowice
REFRESH-INTERVAL;VALUE=DURATION:PT1H
X-Robots-Tag:noindex
X-PUBLISHED-TTL:PT1H
BEGIN:VTIMEZONE
TZID:UTC
BEGIN:STANDARD
TZOFFSETFROM:+0000
TZOFFSETTO:+0000
TZNAME:UTC
DTSTART:20240101T000000
END:STANDARD
END:VTIMEZONE
BEGIN:VEVENT
DTSTART;TZID=UTC:20251004T090000
DTEND;TZID=UTC:20251004T100000
DTSTAMP:20260423T140737
CREATED:20250928T181646Z
LAST-MODIFIED:20250928T181802Z
UID:4051-1759568400-1759572000@www.szachywloszakowice.pl
SUMMARY:Spotkanie organizacyjne -  zajęcia dla najmłodszych
DESCRIPTION:Zapraszamy na spotkanie organizacyjne dla przedszkolaków. \nSobota\, 4 października 2025 r. w sali 131  w ZSO Włoszakowice (wejście na boisko od strony parkingu przy hali sportowej). \nPlanowane są zajęcia przez zabawę dla grup 10 -0s0b0wych dzieci 6-7 letnich. \n  \n 
URL:https://www.szachywloszakowice.pl/event/spotkanie-organizacyjne-zajecia-dla-najmlodszych/
LOCATION:Włoszakowice\, ul K.Kurpińskiego 30
CATEGORIES:zajęcia szachowe
ATTACH;FMTTYPE=image/png:https://www.szachywloszakowice.pl/wp-content/uploads/2025/09/spotkanie-organizacyjne.png
END:VEVENT
BEGIN:VEVENT
DTSTART;TZID=UTC:20251011T090000
DTEND;TZID=UTC:20251011T130000
DTSTAMP:20260423T140737
CREATED:20250928T184301Z
LAST-MODIFIED:20250928T184340Z
UID:4059-1760173200-1760187600@www.szachywloszakowice.pl
SUMMARY:Zajęcia szachowe
DESCRIPTION:Zajęcia \n9.00-13.00 grupa pana Jonasza Walkowskiego \n9.00 – 13.00 grupa pana Kamila Szadkowskiego \n9.00-12.00 grupa pani Karoliny Janiszewskiej
URL:https://www.szachywloszakowice.pl/event/zajecia-szachowe-9/
LOCATION:Włoszakowice\, ul K.Kurpińskiego 30
CATEGORIES:zajęcia szachowe
END:VEVENT
BEGIN:VEVENT
DTSTART;TZID=UTC:20251012T080000
DTEND;TZID=UTC:20251012T170000
DTSTAMP:20260423T140737
CREATED:20251012T135750Z
LAST-MODIFIED:20251012T135750Z
UID:4073-1760256000-1760288400@www.szachywloszakowice.pl
SUMMARY:zajęcia szachowe
DESCRIPTION:9.00 d0 11.00 \nklasa 1 i przedszkole  WWalkowska \nPozostałe grupy nie mają zajęć. \nZapisane osoby  wyjazd na turniej do Leszna \n7.45 wyjazd  parking hala przy Zso Włoszakowice
URL:https://www.szachywloszakowice.pl/event/zajecia-szachowe-10/
CATEGORIES:zajęcia szachowe,zawody
END:VEVENT
BEGIN:VEVENT
DTSTART;TZID=UTC:20251022T000000
DTEND;TZID=UTC:20251022T000000
DTSTAMP:20260423T140737
CREATED:20251022T071059Z
LAST-MODIFIED:20251022T084406Z
UID:4076-1761091200-1761091200@www.szachywloszakowice.pl
SUMMARY:Festiwal szachowy Niepodlegla 2025 Turniej klasyfikacyjny 1600 i wyżej
DESCRIPTION:I.ORGANIZATORZY\n-UKS ZSO Włoszakowice \n-ZSO Włoszakowice \n-Gmina Włoszakowice \n\nTERMIN I MIEJSCE\n– 8.11.2025\, godzina 9:00 i 9.11.2025 godzina 9:00\n– ZSO Włoszakowice\, wejście od strony hali sportowej przez boisko szkolne\n– ul. K.Kurpińskiego 30 64-140 Włoszakowice\n\nIII. UCZESTNICTWO\n– Do wzięcia udziału w turnieju upoważnieni są zawodnicy z rankingiem PZSzach 1600  bez ograniczeń wiekowych\n– Zgłoszenia zawodyszachowe.wloszakowice@wp.pl lub przez chessarbiter\n– Wpisowe wpłacamy na konto:\nUKS ZSO Włoszakowice 47 8661 0009 2001 0000 4082 0001\n– Obowiązuje limit miejsc – 40 zawodników. Decyduje kolejność zaksięgowania płatności.\n– Wpisowe wynosi 80 zł (w dniu turnieju 100 zł). Tylko opłacenie wpisowego oraz rejestracja gwarantuje miejsce w turnieju.\n– Opłacone wpisowe nie podlega zwrotowi \nIV .SYSTEM ROZGRYWEK I TEMPO\n– 7 rund\n– 30′ + 30” za każde wykonane posunięcie\n– turniej umożliwia zdobycie maksymalnie II kategorii męskiej i normy na I kategorię żeńską\n– system szwajcarski (w zależności od liczby graczy dopuszcza się możliwość zrobienia turnieju kołowego lub dwóch osobnych grup\, np. oddzielne turnieje na III i II kategorię).\n– dopuszcza się 15-minutowe spóźnienie na partię\, dłuższe spóźnienia kończą się walkowerem. Osoba\, która odda walkowera w ten sposób i nie potwierdzi swojej obecności przed kojarzeniem kolejnej rundy zostanie wykluczona z dalszej gry w turnieju.\n– obowiązuje osobiste potwierdzenie obecności przed rozpoczęciem turnieju.\n– obowiązuje prowadzenie zapisu przebiegu partii. \n\nHARMONOGRAM TURNIEJU\n– 8.11.2025\n8:30-8:45 – osobiste potwierdzenie zgłoszeń zawodników\n9:00 – powitanie zawodników\, odprawa techniczna\, otwarcie turnieju\n10:00-18:00 – rundy 1-4 (kolejne rundy rozpoczynają się ok. 5 minut po zakończeniu poprzedniej)\n– 9.11.2025\n9:00-15:00 – rundy 5-7 (kolejne rundy rozpoczynają się ok. 5 minut po zakończeniu poprzedniej)\n15:10 – 15:20 – zakończenie turnieju\, ogłoszenie wyników\, rozdanie nagród\n– Podane przedziały czasowe są orientacyjne i mogą ulec zmianom.\nPRZEPISY GRY\n– Turniej odbędzie się zgodnie z aktualnymi przepisami FIDE.\n\nVII. NAGRODY\n– Organizatorzy przewidują następujące  nagrody \n1 miejsce 300 zł \n2 miejsce 200 zł \n3 miejsce 100 zł \nMiejsca 4-6 nagrody rzeczowe.   Przewidziana także nagroda dla kobiety z najwyższym wynikiem. Nagrody nie są łączone. \nVIII. OBSADA SĘDZIOWSKA\n– sędzia II klasy – Karolina Janiszewska \n\nINNE\n– zawodnicy ubezpieczają się we własnym zakresie.\n– opiekę nad zawodnikami niepełnoletnimi sprawują ich prawni opiekunowie lub osoby przez nie upoważnione.\n– uczestnicy i kibice wyrażają zgodę na przetwarzanie danych osobowych przez organizatorów zgodnie z RODO oraz wykorzystanie wizerunku do celów promocyjno-marketingowych przez organizatorów.\nTurniej w ramach Festiwalu Szachowego „Niepodległa”. W ramach cyklu dla grup 1600 i 1400 przewidziane są 3 nagrody finansowe za uzyskanie najwyższej łącznej punktacji  w turnieju szachów klasycznych\, szybkich i błyskawicznych wg komunikatu zamieszczonego na stronie szachywloszakowice.pl\n\n 
URL:https://www.szachywloszakowice.pl/event/festiwal-szachowy-turniej-klasyfikacyjny-1600-i-wyzej/
CATEGORIES:zawody
ATTACH;FMTTYPE=image/png:https://www.szachywloszakowice.pl/wp-content/uploads/2025/10/niepodlegla-plakat.png
END:VEVENT
END:VCALENDAR