BEGIN:VCALENDAR
VERSION:2.0
PRODID:-//UKS ZSO Włoszakowice - ECPv6.15.13//NONSGML v1.0//EN
CALSCALE:GREGORIAN
METHOD:PUBLISH
X-ORIGINAL-URL:https://www.szachywloszakowice.pl
X-WR-CALDESC:Wydarzenia dla UKS ZSO Włoszakowice
REFRESH-INTERVAL;VALUE=DURATION:PT1H
X-Robots-Tag:noindex
X-PUBLISHED-TTL:PT1H
BEGIN:VTIMEZONE
TZID:UTC
BEGIN:STANDARD
TZOFFSETFROM:+0000
TZOFFSETTO:+0000
TZNAME:UTC
DTSTART:20240101T000000
END:STANDARD
END:VTIMEZONE
BEGIN:VEVENT
DTSTART;TZID=UTC:20250830T090000
DTEND;TZID=UTC:20250830T123000
DTSTAMP:20260419T191518
CREATED:20250821T124755Z
LAST-MODIFIED:20250821T124916Z
UID:3931-1756544400-1756557000@www.szachywloszakowice.pl
SUMMARY:ŻEGNAJCIE WAKACJE turniej szachów szybkich
DESCRIPTION:Żegnamy  Wakacje – turniej szachowy \nszachy szybkie – 30 sierpnia 2025 r. \nOrganizator: UKS ZSO Włoszakowice \nSala gry: sala 131 ZSO Włoszakowice\, wejście przejściem pod budynkiem od strony parkingu przy hali sportowej \nSystem gry: szwajcarski\, 7 rund\, tempo 10 min.+5 sek.  \n\nTurniej rozpoczyna się o godzinie 9.00\nZakończenie ok. godz. 12:30\n\nWarunki uczestnictwa:  w turnieju mogą wziąć zawodnicy bez ograniczeń wiekowych. Zgłoszenia do p. Wiesławy Walkowskiej lub na zawodyszachowe.wloszakowice@wp.pl \nWpisowe: 50 zł zawodnicy UKS ZSO Włoszakowice\, spoza klubu 60 zł \nNagrody: Dla najlepszych 3 medale\,  nagrody rzeczowe 6 zawodników z najwyższym wynikiem. Osobna klasyfikacja zawodników  do lat 10. Nagoda dla najmłodszego zawodnika. \nInne: \n\nW turnieju obowiązują przepisy PZSZach\nOpłacenie wpisowego oznacza zgodę na wykorzystanie  wizeunku dziecka i danych osobowych do promocji turnieju i działalności klubu\, a także jest równoważne że stan zdrowia dziecka pozwala na udział w takim turnieju.\n\nUczestnicy indywidualnie dokonują ubezpieczenia NW. \nhttps://www.chessarbiter.com/turnieje/2025/ti_4635/
URL:https://www.szachywloszakowice.pl/event/zegnajcie-wakacje-turniej-szachow-szybkich-2/
LOCATION:Włoszakowice\, ul K.Kurpińskiego 30
CATEGORIES:zawody
ATTACH;FMTTYPE=image/png:https://www.szachywloszakowice.pl/wp-content/uploads/2025/08/zegnajcie-wakacje-szachy-szybkie.png
END:VEVENT
END:VCALENDAR