BEGIN:VCALENDAR
VERSION:2.0
PRODID:-//UKS ZSO Włoszakowice - ECPv6.15.13//NONSGML v1.0//EN
CALSCALE:GREGORIAN
METHOD:PUBLISH
X-WR-CALNAME:UKS ZSO Włoszakowice
X-ORIGINAL-URL:https://www.szachywloszakowice.pl
X-WR-CALDESC:Wydarzenia dla UKS ZSO Włoszakowice
REFRESH-INTERVAL;VALUE=DURATION:PT1H
X-Robots-Tag:noindex
X-PUBLISHED-TTL:PT1H
BEGIN:VTIMEZONE
TZID:UTC
BEGIN:STANDARD
TZOFFSETFROM:+0000
TZOFFSETTO:+0000
TZNAME:UTC
DTSTART:20240101T000000
END:STANDARD
END:VTIMEZONE
BEGIN:VEVENT
DTSTART;TZID=UTC:20250628T080000
DTEND;TZID=UTC:20250629T170000
DTSTAMP:20260419T224709
CREATED:20250612T140545Z
LAST-MODIFIED:20250612T140545Z
UID:3914-1751097600-1751216400@www.szachywloszakowice.pl
SUMMARY:Witamy Wakacje turniej klasyfikacyjny  w trzech grupach
DESCRIPTION:Witamy Wakacje  \nTurniej Klasyfikacyjny – pierwszy krok 28 czerwca 2025 r. \nGrupa a – ranking 1600 i wyżej 28-29 czerwca 2025 r. \nGrupa b ranking 1250 i wyżej   28-29 czerwca 2025 r. \nOrganizator: UKS ZSO Włoszakowice \nSala gry: sala 131 ZSO Włoszakowice \nSystem gry: szwajcarski\, 7 rund\, tempo 30 minut na zawodnika pierwszy krok\, a grupa A i B 60 minut na zawodnika \n\nTurniej rozpoczyna się o godzinie 9.00\nZakończenie ok. godz. 15:00\nTurniej umożliwia wypełnienie normy do IV kategorii pierwszy krok\,   a grupa A i B do II kategorii.\n\nWarunki uczestnictwa: Zgłoszenia do p. Wiesławy Walkowskiej \nWpisowe: 50 zł zawodnicy UKS ZSO Włoszakowice\, spoza klubu 60 zł \nNagrody: Dla najlepszych 3 medale\,  nagrody rzeczowe 6 zawodników z najwyższym wynikiem. Nagoda dla najmłodszego zawodnika. \nInne: \n\nW turnieju obowiązują przepisy PZSZach\nOpłacenie wpisowego oznacza zgodę na wykorzystanie  wizeunku dziecka i danych osobowych do promocji turnieju i działalności klubu\, a także jest równoważne że stan zdrowia dizecka pozwala na udział w takim turnieju.\nOpłacenie wpiosowego oznacza\, że stan zdrowia zawodnika pozwala na udział w takich zawodach.\n\nUczestnicy indywidualnie dokonują ubezpieczenia NW. \nW czasie zawodów zawodnicy pozostają na terenie szkoły pod opieką osoby pełnoletniej. Organizator zastrzega sobie prawo połączenia grup\, lub przesuniecia zawodników między grupami jeśli zajdzie taka konieczność\, w uzgodnieniu z sędzią głównym zawodów. \n 
URL:https://www.szachywloszakowice.pl/event/witamy-wakacje-turniej-klasyfikacyjny-w-trzech-grupach/
LOCATION:Włoszakowice\, ul K.Kurpińskiego 30
CATEGORIES:zawody
ATTACH;FMTTYPE=image/png:https://www.szachywloszakowice.pl/wp-content/uploads/2025/06/Dodaj-naglowek-2.png
END:VEVENT
END:VCALENDAR