BEGIN:VCALENDAR
VERSION:2.0
PRODID:-//UKS ZSO Włoszakowice - ECPv6.15.13//NONSGML v1.0//EN
CALSCALE:GREGORIAN
METHOD:PUBLISH
X-WR-CALNAME:UKS ZSO Włoszakowice
X-ORIGINAL-URL:https://www.szachywloszakowice.pl
X-WR-CALDESC:Wydarzenia dla UKS ZSO Włoszakowice
REFRESH-INTERVAL;VALUE=DURATION:PT1H
X-Robots-Tag:noindex
X-PUBLISHED-TTL:PT1H
BEGIN:VTIMEZONE
TZID:UTC
BEGIN:STANDARD
TZOFFSETFROM:+0000
TZOFFSETTO:+0000
TZNAME:UTC
DTSTART:20250101T000000
END:STANDARD
END:VTIMEZONE
BEGIN:VEVENT
DTSTART;TZID=UTC:20260905T080000
DTEND;TZID=UTC:20260905T170000
DTSTAMP:20260419T195103
CREATED:20260328T175821Z
LAST-MODIFIED:20260328T201948Z
UID:4722-1788595200-1788627600@www.szachywloszakowice.pl
SUMMARY:Zajęcia szachowe
DESCRIPTION:zajęcia mają grupy \npierwsza klasa i przedszkole  godz.9.00-12.00 \nklasa 2 i 3 p. K.Janiszewska   9.00-12.00 \nklasa czwarta i starsi   9.00-13.00
URL:https://www.szachywloszakowice.pl/event/zajecia-szachowe-21/
END:VEVENT
BEGIN:VEVENT
DTSTART;TZID=UTC:20261220T090000
DTEND;TZID=UTC:20261220T153000
DTSTAMP:20260419T195103
CREATED:20251230T163548Z
LAST-MODIFIED:20251230T164039Z
UID:4414-1797757200-1797780600@www.szachywloszakowice.pl
SUMMARY:Turniej Szachowy o PucharPani Prezes Banku Spółdzieczego we Włoszakowicach
DESCRIPTION:Turniej Szachowy o PucharPani Prezes Banku Spółdzieczego we Włoszakowicach
URL:https://www.szachywloszakowice.pl/event/4414/
LOCATION:Włoszakowice\, ul K.Kurpińskiego 30
CATEGORIES:zawody
END:VEVENT
END:VCALENDAR