BEGIN:VCALENDAR
VERSION:2.0
PRODID:-//UKS ZSO Włoszakowice - ECPv6.15.13//NONSGML v1.0//EN
CALSCALE:GREGORIAN
METHOD:PUBLISH
X-WR-CALNAME:UKS ZSO Włoszakowice
X-ORIGINAL-URL:https://www.szachywloszakowice.pl
X-WR-CALDESC:Wydarzenia dla UKS ZSO Włoszakowice
REFRESH-INTERVAL;VALUE=DURATION:PT1H
X-Robots-Tag:noindex
X-PUBLISHED-TTL:PT1H
BEGIN:VTIMEZONE
TZID:UTC
BEGIN:STANDARD
TZOFFSETFROM:+0000
TZOFFSETTO:+0000
TZNAME:UTC
DTSTART:20250101T000000
END:STANDARD
END:VTIMEZONE
BEGIN:VEVENT
DTSTART;TZID=UTC:20260301T080000
DTEND;TZID=UTC:20260301T170000
DTSTAMP:20260423T094509
CREATED:20260201T125404Z
LAST-MODIFIED:20260201T125404Z
UID:4507-1772352000-1772384400@www.szachywloszakowice.pl
SUMMARY:liga Seniorów
DESCRIPTION:Wyjazd do Śmigla wg ustaleń telefonicznych
URL:https://www.szachywloszakowice.pl/event/liga-seniorow/
END:VEVENT
END:VCALENDAR