BEGIN:VCALENDAR
VERSION:2.0
PRODID:-//UKS ZSO Włoszakowice - ECPv6.15.13//NONSGML v1.0//EN
CALSCALE:GREGORIAN
METHOD:PUBLISH
X-ORIGINAL-URL:https://www.szachywloszakowice.pl
X-WR-CALDESC:Wydarzenia dla UKS ZSO Włoszakowice
REFRESH-INTERVAL;VALUE=DURATION:PT1H
X-Robots-Tag:noindex
X-PUBLISHED-TTL:PT1H
BEGIN:VTIMEZONE
TZID:UTC
BEGIN:STANDARD
TZOFFSETFROM:+0000
TZOFFSETTO:+0000
TZNAME:UTC
DTSTART:20240101T000000
END:STANDARD
END:VTIMEZONE
BEGIN:VEVENT
DTSTART;TZID=UTC:20251213T080000
DTEND;TZID=UTC:20251213T130000
DTSTAMP:20260419T143033
CREATED:20251123T102952Z
LAST-MODIFIED:20251207T120047Z
UID:4250-1765612800-1765630800@www.szachywloszakowice.pl
SUMMARY:zajęcia szachowe
DESCRIPTION:Zajęcia szachowe 13.12.2025 r. \n9.00-11.00 klasy I i przedszkole p. W.Walkowska \n9.00-13.00 grupa p. W.Janochy \n9.00-12.00 grupa p. K.Janiszewskiej \n11.00-14.00 grupa p. J. Walkowski \nProsimy o przynoszenie książek i przyborów do pisania. \n 
URL:https://www.szachywloszakowice.pl/event/zajecia-szachowe-14/
LOCATION:Włoszakowice\, pl.21 Października 3\, Włoszakowice\, Wielkopolskie\, 64-140\, Poland
CATEGORIES:zajęcia szachowe
END:VEVENT
END:VCALENDAR