BEGIN:VCALENDAR
VERSION:2.0
PRODID:-//UKS ZSO Włoszakowice - ECPv6.15.13//NONSGML v1.0//EN
CALSCALE:GREGORIAN
METHOD:PUBLISH
X-ORIGINAL-URL:https://www.szachywloszakowice.pl
X-WR-CALDESC:Wydarzenia dla UKS ZSO Włoszakowice
REFRESH-INTERVAL;VALUE=DURATION:PT1H
X-Robots-Tag:noindex
X-PUBLISHED-TTL:PT1H
BEGIN:VTIMEZONE
TZID:UTC
BEGIN:STANDARD
TZOFFSETFROM:+0000
TZOFFSETTO:+0000
TZNAME:UTC
DTSTART:20240101T000000
END:STANDARD
END:VTIMEZONE
BEGIN:VEVENT
DTSTART;TZID=UTC:20250509T080000
DTEND;TZID=UTC:20250525T170000
DTSTAMP:20260420T015650
CREATED:20250331T193418Z
LAST-MODIFIED:20250407T135647Z
UID:3598-1746777600-1748192400@www.szachywloszakowice.pl
SUMMARY:kurs dla nauczycieli Edukacja przez Szachy w Szkole
DESCRIPTION:Kurs dla nauczycieli Edukacja przez Szachy w Szkole \n  \nKurs w formie stacjonarnej\n1. Organizator: Wielkopolski Związek Szachowy na zlecenie Polskiego Związku Szachowego\n2. Miejsce: Włoszakowice\nDwa zjazdy Terminy zjazdów: (stacjonarnie)\nPierwszy zjazd 9-11.05.2025 r. piątek 16.00 \, sobota\, niedziela od 9.00 Zespół Szkół Ogólnokształcących ul.K.Kurpińskiego 30 64-140 Włoszakowice\nDrugi zjazd 17-18.05.2025 r.\, od godz.9.00 Poznań\, Dwujęzyczna Polsko- Angielska Prywatna Szkoła Podstawowa ul.Piwna 1\nTrzeci zjazd 23-25.05.2025 r. piątek 16.00 \, sobota\, niedziela od 9.00 Zespół Szkół Ogólnokształcących ul.K.Kurpińskiego 30 64-140 Włoszakowice\nJest możliwość wynajęcia noclegu we Włoszakowicach. Informacja u organizatora.\n3. Program: otrzymają uczestnicy drogą mailową (po weryfikacji zgłoszeń)\n4. Opłaty: Opłata za kurs w wysokości 800 zł płatna do 30.04.2025 r. na konto Wielkopolski Związek Szachowy 61-361 Poznań\, ul. Starołęcka 36 Santander Bank Oddział/Poznań 30 1090 1737 0000 0001 5559 3686 (tytuł przelewu: „imię i nazwisko – kurs szachowy dla nauczycieli”). Osoby legitymujące się minimum III kategorią szachową – potwierdzoną w Centralnym Rejestrze PZSzach lub posiadające wpis do legitymacji szachowej – mogą być zwolnione z części szachowej\, i w takim przypadku opłata za kurs wynosi dla nich 400 zł.\nOpłata obejmuje 72 godziny szkolenia wykładów prowadzonych przez wykwalifikowanych specjalistów Polskiego Związku Szachowego i materiały szkoleniowe.\n5. W kursie mogą wziąć udział nauczyciele dowolnego przedmiotu na podstawie delegacji ze szkoły/przedszkola\, w której aktualnie pracują lub inni nauczyciele\, również ci pozostający aktualnie bez zatrudnienia\, posiadający jednak uprawnienia pedagogiczne po uiszczeniu opłaty za kurs. Nauczyciele nie muszą znać zasad szachowych!\n6. Uczestnictwo: warunkiem zgłoszenia nauczyciela na kurs jest przesłanie mailowo zgłoszenia na adres w.walkowska@wzszach.poznan.pl\nZgłoszenia: Imię\, nazwisko\, datę urodzenia oraz reprezentowaną szkołę należy przesłać do 30 kwietnia 2025 r. oraz potwierdzenie uiszczenia opłaty na wskazane konto Wielkopolskiego Związku Szachowego )wpłatę dokonujemy po potwierdzeniu\, ze zgłosiło się co najmniej 10 osób na kurs).\n7. Uprawnienia: Uczestnicy otrzymują C E R T Y F I K A T ukończenia kursu\, wystawiony przez Polski Związek Szachowy\, z zakresu metodyki nauczania gry w szachy\, potwierdzający posiadanie wiedzy oraz umiejętności do prowadzenia zajęć szachowych dla początkujących w oddziałach przedszkolnych\, szkołach podstawowych.\nSzkoła po przystąpieniu do Projektu Edukacja przez Szachy w Szkole otrzyma bezpłatnie 15 kompletów szachów oraz szachy demonstracyjne\nSzczegóły : https://szachywszkole.pzszach.pl/jak-przystapic\nKurs odbędzie się po zebraniu chętnych! (min 10 osób)\nWWalkowska
URL:https://www.szachywloszakowice.pl/event/3598/
CATEGORIES:zajęcia szachowe
END:VEVENT
END:VCALENDAR